BEGIN:VCALENDAR
VERSION:2.0
PRODID:-//Kids In Distress - ECPv6.15.18//NONSGML v1.0//EN
CALSCALE:GREGORIAN
METHOD:PUBLISH
X-ORIGINAL-URL:https://kidinc.org
X-WR-CALDESC:Events for Kids In Distress
REFRESH-INTERVAL;VALUE=DURATION:PT1H
X-Robots-Tag:noindex
X-PUBLISHED-TTL:PT1H
BEGIN:VTIMEZONE
TZID:America/Halifax
BEGIN:DAYLIGHT
TZOFFSETFROM:-0400
TZOFFSETTO:-0300
TZNAME:ADT
DTSTART:20240310T060000
END:DAYLIGHT
BEGIN:STANDARD
TZOFFSETFROM:-0300
TZOFFSETTO:-0400
TZNAME:AST
DTSTART:20241103T050000
END:STANDARD
BEGIN:DAYLIGHT
TZOFFSETFROM:-0400
TZOFFSETTO:-0300
TZNAME:ADT
DTSTART:20250309T060000
END:DAYLIGHT
BEGIN:STANDARD
TZOFFSETFROM:-0300
TZOFFSETTO:-0400
TZNAME:AST
DTSTART:20251102T050000
END:STANDARD
BEGIN:DAYLIGHT
TZOFFSETFROM:-0400
TZOFFSETTO:-0300
TZNAME:ADT
DTSTART:20260308T060000
END:DAYLIGHT
BEGIN:STANDARD
TZOFFSETFROM:-0300
TZOFFSETTO:-0400
TZNAME:AST
DTSTART:20261101T050000
END:STANDARD
END:VTIMEZONE
BEGIN:VEVENT
DTSTART;TZID=America/Halifax:20250208T180000
DTEND;TZID=America/Halifax:20250208T180000
DTSTAMP:20260425T005358
CREATED:20241105T233020Z
LAST-MODIFIED:20250205T204452Z
UID:10000007-1739037600-1739037600@kidinc.org
SUMMARY:For the LOVE of KID
DESCRIPTION:7 Courts\n7 Tennis Pros\nEnjoy live music\, food\, tennis\, open bar\, raffle’s\, and more!
URL:https://kidinc.org/event/for-the-love-of-kid/
LOCATION:Hawks Landing Tennis Center\, 500 Hawks Landing Circle\, Plantation\, FL\, 33324\, United States
CATEGORIES:Community Events
ATTACH;FMTTYPE=image/png:https://kidinc.org/wp-content/uploads/2024/09/TennisBallBG-e1727703953655.png
END:VEVENT
END:VCALENDAR